BEGIN:VCALENDAR
VERSION:2.0
PRODID:-//WEBERKNECHT • Club • Lounge • Livestage - ECPv6.15.20//NONSGML v1.0//EN
CALSCALE:GREGORIAN
METHOD:PUBLISH
X-ORIGINAL-URL:https://weberknecht.net
X-WR-CALDESC:Veranstaltungen für WEBERKNECHT • Club • Lounge • Livestage
REFRESH-INTERVAL;VALUE=DURATION:PT1H
X-Robots-Tag:noindex
X-PUBLISHED-TTL:PT1H
BEGIN:VTIMEZONE
TZID:Europe/Berlin
BEGIN:DAYLIGHT
TZOFFSETFROM:+0100
TZOFFSETTO:+0200
TZNAME:CEST
DTSTART:20240331T010000
END:DAYLIGHT
BEGIN:STANDARD
TZOFFSETFROM:+0200
TZOFFSETTO:+0100
TZNAME:CET
DTSTART:20241027T010000
END:STANDARD
BEGIN:DAYLIGHT
TZOFFSETFROM:+0100
TZOFFSETTO:+0200
TZNAME:CEST
DTSTART:20250330T010000
END:DAYLIGHT
BEGIN:STANDARD
TZOFFSETFROM:+0200
TZOFFSETTO:+0100
TZNAME:CET
DTSTART:20251026T010000
END:STANDARD
BEGIN:DAYLIGHT
TZOFFSETFROM:+0100
TZOFFSETTO:+0200
TZNAME:CEST
DTSTART:20260329T010000
END:DAYLIGHT
BEGIN:STANDARD
TZOFFSETFROM:+0200
TZOFFSETTO:+0100
TZNAME:CET
DTSTART:20261025T010000
END:STANDARD
END:VTIMEZONE
BEGIN:VEVENT
DTSTART;TZID=Europe/Berlin:20250717T210000
DTEND;TZID=Europe/Berlin:20250718T060000
DTSTAMP:20260422T105747
CREATED:20250712T065316Z
LAST-MODIFIED:20250712T065349Z
UID:1720-1752786000-1752818400@weberknecht.net
SUMMARY:OUT OF SPACE
DESCRIPTION:🚀OUT OF SPACE🚀\nA night of psychedelic & Goa frequencies.\nPure underground vibes only 🏴‍☠️\nSABSUNSHINE | MOGLICORE | NORG3N\n📍 Weberknecht\, Wien\n🗓 Donnerstag 17 Juli 2025\n🕘 21:00 – 06:00\n🎟 Free Entrance
URL:https://weberknecht.net/event/out-of-space-3/
ATTACH;FMTTYPE=image/jpeg:https://weberknecht.net/wp-content/uploads/2025/07/517159589_1281655363964093_7131118948089668321_n.jpg
END:VEVENT
BEGIN:VEVENT
DTSTART;TZID=Europe/Berlin:20250724T210000
DTEND;TZID=Europe/Berlin:20250725T060000
DTSTAMP:20260422T105747
CREATED:20250712T065655Z
LAST-MODIFIED:20250712T065655Z
UID:1723-1753390800-1753423200@weberknecht.net
SUMMARY:OUT OF SPACE
DESCRIPTION:On July 24th we will have a pretty special night\, for his second time in Vienna\, pioneer of psytrance in Mexico and Brasil\,co owner of Universo Paralello \,SHOVE will blast Weber dancefloor one day before his departure to Ozora Festival\,doing line up with Jack In The Box after his performance in Flow Experience Festival\,these two Mexicans will go crazy !!! accompanied by the Brazilian female talent Abstract Machine who is rocking the dancefloors all around the world the last years\,and the well known DJ\,producer \,resident of Out of Space parties\,straight from Hungary\, Norg3N! 🔥🔥🔥\nCan’t miss this event \,FREE ENTRY before 23:00\, call all your ravers and meet up there 😈😈
URL:https://weberknecht.net/event/out-of-space-4/
ATTACH;FMTTYPE=image/jpeg:https://weberknecht.net/wp-content/uploads/2025/07/516639326_1311566190973714_5603606918306645215_n.jpg
END:VEVENT
END:VCALENDAR